BEGIN:VCALENDAR
VERSION:2.0
CALSCALE:GREGORIAN
PRODID:adamgibbons/ics
METHOD:PUBLISH
X-PUBLISHED-TTL:PT1H
BEGIN:VEVENT
UID:4614@lapunta.org
SUMMARY:Rumore nel vostro silenzio
DTSTAMP:20260420T090111Z
DTSTART:20250222T140000Z
DESCRIPTION:22 FEBBRAIO. MANIFESTAZIONE.\nORE 15:00 DA PRATO PORTA AL SERRA
	GLIO.\n\n\n\n1. Nella notte tra sabato e domenica la piana si è svegliata 
	con la notizia di\ntre bombe incendiarie radiocomandate fatte esplodere si
	multaneamente in tre\ndiverse aziende che si occupano di logistica dell'ab
	bigliamento.\n\n2. I magazzini attaccati sono l'Acca di Seano\, la Elt Exp
	ress di Campi Bisenzio\ne la Logistica Shun Da di Prato. Quest'ultima era 
	già stata completamente\ndistrutta da un incendio doloso lo scorso luglio.
	 In quell'occasione un'autista\nche era a dormire nel camion riuscì per mi
	racolo a scampare una morte tremenda.\n\n3. Negli ultimi anni in questo se
	ttore non si contano gli episodi di\nintimidazione e violenza mafiosa port
	ati avanti da organizzazioni criminali che\nin questo modo vogliono conqui
	stare pezzi di mercato. Dietro ogni furgone\nincendiato c'erano un autista
	 e un facchino fatti scendere sotto minaccia da\nquel furgone. Dietro ogni
	 magazzino che brucia ci sono lavoratori che rischiano\ndi morire bruciati
	.\n\n4. A Prato\, Seano\, Campi Bisenzio non possiamo parlare di “sicurezz
	a sul lavoro”\nsenza parlare di lotta alla mafia. E non possiamo parlare d
	i lotta alla mafia\nsenza parlare di sicurezza sul lavoro\, senza ricordar
	si che ci sono centinaia di\nlavoratori che rischiano di pagare con la lor
	o stessa vita il prezzo di guerre\nche non gli appartengono. Mentre tutti 
	i giorni la mafia impone su di loro\ncondizioni di sfruttamento.\n\n5. All
	a Acca\, alla Shun Da\, alla ELT Express in questi anni i lavoratori hanno
	\nscritto una nuova storia di sindacalizzazione\, diritti\, partecipazione
	\ndemocratica. E' da questa comunità operaia che parte l'appello a scender
	e in\npiazza questo sabato.\n\n6. Se il silenzio nutre omertà ed indiffere
	nza\, ora è il momento del rumore. A\ntutte e tutti noi – alla piana solid
	ale e democratica – ancora una volta la\nresponsabilità di reagire.
URL:https://lapunta.org/event/antimafia-e-lotta-per-il-lavoro-degno-e-sicur
	o-la-lotta-per-il-lavoro-degno-e-sicuro-e-antimafia
LOCATION:Porta al Serraglio - Porta al Serraglio\, Prato (PO)
STATUS:CONFIRMED
CATEGORIES:Prato,Sudd Cobas,antimafia,sindacato
X-ALT-DESC;FMTTYPE=text/html:<h3> 22 febbraio. Manifestazione. <br>Ore 15:0
	0 da Prato Porta al Serraglio.</h3><p></p><p>1. Nella notte tra sabato e d
	omenica la piana si è svegliata con la notizia di tre bombe incendiarie ra
	diocomandate fatte esplodere simultaneamente in tre diverse aziende che si
	 occupano di logistica dell'abbigliamento.</p><p>2. I magazzini attaccati 
	sono l'Acca di Seano, la Elt Express di Campi Bisenzio e la Logistica Shun
	 Da di Prato. Quest'ultima era già stata completamente distrutta da un inc
	endio doloso lo scorso luglio. In quell'occasione un'autista che era a dor
	mire nel camion riuscì per miracolo a scampare una morte tremenda.</p><p>3
	. Negli ultimi anni in questo settore non si contano gli episodi di intimi
	dazione e violenza mafiosa portati avanti da organizzazioni criminali che 
	in questo modo vogliono conquistare pezzi di mercato. Dietro ogni furgone 
	incendiato c'erano un autista e un facchino fatti scendere sotto minaccia 
	da quel furgone. Dietro ogni magazzino che brucia ci sono lavoratori che r
	ischiano di morire bruciati.</p><p>4. A Prato, Seano, Campi Bisenzio non p
	ossiamo parlare di “sicurezza sul lavoro” senza parlare di lotta alla mafi
	a. E non possiamo parlare di lotta alla mafia senza parlare di sicurezza s
	ul lavoro, senza ricordarsi che ci sono centinaia di lavoratori che rischi
	ano di pagare con la loro stessa vita il prezzo di guerre che non gli appa
	rtengono. Mentre tutti i giorni la mafia impone su di loro condizioni di s
	fruttamento.</p><p>5. Alla Acca, alla Shun Da, alla ELT Express in questi 
	anni i lavoratori hanno scritto una nuova storia di sindacalizzazione, dir
	itti, partecipazione democratica. E' da questa comunità operaia che parte 
	l'appello a scendere in piazza questo sabato.</p><p>6. Se il silenzio nutr
	e omertà ed indifferenza, ora è il momento del rumore. A tutte e tutti noi
	 – alla piana solidale e democratica – ancora una volta la responsabilità 
	di reagire.</p>
END:VEVENT
END:VCALENDAR
